BEGIN:VCALENDAR
VERSION:2.0
PRODID:icalendar-ruby
CALSCALE:GREGORIAN
METHOD:PUBLISH
BEGIN:VEVENT
DTSTAMP:20260425T174355Z
UID:57-650754@mccookefree.org
DTSTART:20261101T164500Z
DTEND:20261101T180000Z
CLASS:PUBLIC
CREATED:20260425T123115
DESCRIPTION:
LAST-MODIFIED:20260425T123115
LOCATION:Mccook Campus
SUMMARY:Sunday Worship - McCook - 2nd Service
URL;VALUE=URI:https://mccookefree.org/events/sunday-worship-mccook-2nd-serv
 ice/2026-11-01
END:VEVENT
END:VCALENDAR
