BEGIN:VCALENDAR
VERSION:2.0
PRODID:icalendar-ruby
CALSCALE:GREGORIAN
METHOD:PUBLISH
BEGIN:VEVENT
DTSTAMP:20260425T150029Z
UID:57-650154@mccookefree.org
DTSTART:20261018T154500Z
DTEND:20261018T170000Z
CLASS:PUBLIC
CREATED:20260425T095115
DESCRIPTION:
LAST-MODIFIED:20260425T095115
LOCATION:Mccook Campus
SUMMARY:Sunday Worship - McCook - 2nd Service
URL;VALUE=URI:https://mccookefree.org/events/sunday-worship-mccook-2nd-serv
 ice/2026-10-18
END:VEVENT
END:VCALENDAR
